BEGIN:VCALENDAR
VERSION:2.0
PRODID:-//wp-events-plugin.com//7.2.3.1//EN
BEGIN:VEVENT
UID:33@phoenixwateringen.nl
DTSTART;TZID=Europe/Amsterdam:20250215T200000
DTEND;TZID=Europe/Amsterdam:20250215T220000
DTSTAMP:20250129T082311Z
URL:https://phoenixwateringen.nl/events/harmonieconcert-15-februari-2025-c
 upidos-kater/
SUMMARY:Harmonieconcert 15 februari 2025: Cupido's Kater
DESCRIPTION:Op de dag na Valentijn kun je heerlijk genieten van niet 1\, ma
 ar 2 orkesten\, die hun muzikaliteit laten horen in de hervormde kerk in W
 ateringen. De avond begint met het harmonieorkest Excelsior uit Boskoop di
 e stukken gaat spelen met als thema “fantasy”. Denk hierbij aan klassi
 ekers zoals de muziek uit “Star Wars” en “The Lord of the Rings”. 
 Na de pauze speelt ons eigen Harmonieorkest met als thema “Cupido’s ka
 ter”\, ietwat bijzondere liefdesverhalen perfect voor de dag na Valentij
 n. Beide orkesten staan onder leiding van Bart Roobol.\n\nHet concert vind
 t plaats op zaterdag 15 februari en begint om 20:00 en zal tot ongeveer 22
 :00 duren.\nIn de pauze tussen de twee orkesten door is er de mogelijkheid
  tot het kopen van een drankje.\n\nToegang is 15\,-  euro voor volwassene
 n en 6\,50 voor kinderen t/m 12 jaar\, en zijn online te koop via Eventbri
 te of op de avond zelf fysiek aan de deur\, vanaf 19:30.\n\nKlik hier voor
  de link naar de kaartverkoop via Eventbrite\n\nParkeren en OV: op zaterda
 g na 17:00 is het gratis parkeren in de omgeving en bus 30 brengt je vanaf
  Station Rijswijk in 10 minuten naar onze concertlocatie (halte op 1 minuu
 t lopen).\n\n\n\n&nbsp\;\n\n&nbsp\;\n\n&nbsp\;\n\n&nbsp\;\n\n&nbsp\;\n\n&n
 bsp\;\n\n&nbsp\;\n\n&nbsp\;\n\n&nbsp\;\n\n&nbsp\;\n\n&nbsp\;\n\n&nbsp\;\n\
 n&nbsp\;\n\n&nbsp\;\n\n
ATTACH;FMTTYPE=image/jpeg:https://phoenixwateringen.nl/wp-content/uploads/
 2025/01/Cupidos-kater4.png
CATEGORIES:Harmonie,Phoenix
LOCATION:Hervormde Kerk van Wateringen\, Plein 9\, Wateringen\, 2291 CA\, N
 ederland
X-APPLE-STRUCTURED-LOCATION;VALUE=URI;X-ADDRESS=Plein 9\, Wateringen\, 2291
  CA\, Nederland;X-APPLE-RADIUS=100;X-TITLE=Hervormde Kerk van Wateringen:g
 eo:0,0
END:VEVENT
BEGIN:VTIMEZONE
TZID:Europe/Amsterdam
X-LIC-LOCATION:Europe/Amsterdam
BEGIN:STANDARD
DTSTART:20241027T020000
TZOFFSETFROM:+0200
TZOFFSETTO:+0100
TZNAME:CET
END:STANDARD
END:VTIMEZONE
END:VCALENDAR