BEGIN:VCALENDAR
VERSION:2.0
PRODID:-//wp-events-plugin.com//7.2.3.1//EN
BEGIN:VEVENT
UID:24@phoenixwateringen.nl
DTSTART;TZID=Europe/Amsterdam:20240427T103000
DTEND;TZID=Europe/Amsterdam:20240427T113000
DTSTAMP:20240417T190541Z
URL:https://phoenixwateringen.nl/events/koningsdag-met-de-phoenix-in-het-h
 ofpark/
SUMMARY:Koningsdag met de Phoenix in het Hofpark
DESCRIPTION:Koningsdag 2024 valt dit jaar op de eerste zaterdag aan het beg
 in van de meivakantie! De Phoenix is er weer bij in het Hofpark van Wateri
 nge\, komen jullie ook mee feest vieren?\n\nLeden van het harmonie-orkest 
 zullen om 9 uur vanaf de kerktoren in Wateringen het spits afbijten. Om 10
  uur wordt het Wilhelmus ten gehore gebracht naast de Smidse waarna het ha
 rmonieorkest in het Hofpark rond 10h30 start met het gratis concert. Kom m
 eezingen met klassiekers Aretha Franklin en Earth\, Wind &amp\; Fire\, pro
 beer zo veel mogelijk liedjes van de musical The Wizz te herkennen en doe 
 mee met de Pasapas! En tijdens de kinderspelen 10h en 13h zal Michel Ponsi
 oen gratis slagwerkworkshops geven. Genoeg te horen en te zien dus!\n\nTot
  ziens op 27 april!\n\n\n\n&nbsp\;
ATTACH;FMTTYPE=image/jpeg:https://phoenixwateringen.nl/wp-content/uploads/
 2024/04/WhatsApp-Image-2023-04-27-at-11.32.55.jpeg
LOCATION:Hofpark\, Hoflaan 1\, Wateringen\, 2291 CP\, Nederland
X-APPLE-STRUCTURED-LOCATION;VALUE=URI;X-ADDRESS=Hoflaan 1\, Wateringen\, 22
 91 CP\, Nederland;X-APPLE-RADIUS=100;X-TITLE=Hofpark:geo:0,0
END:VEVENT
BEGIN:VTIMEZONE
TZID:Europe/Amsterdam
X-LIC-LOCATION:Europe/Amsterdam
BEGIN:DAYLIGHT
DTSTART:20240331T030000
TZOFFSETFROM:+0100
TZOFFSETTO:+0200
TZNAME:CEST
END:DAYLIGHT
END:VTIMEZONE
END:VCALENDAR